BEGIN:VCALENDAR
VERSION:2.0
CALSCALE:GREGORIAN
PRODID:adamgibbons/ics
METHOD:PUBLISH
X-PUBLISHED-TTL:PT1H
BEGIN:VEVENT
UID:1274@www.attoppa.it
SUMMARY:Narrazioni tossiche  e come riconoscerle
DTSTAMP:20260420T145914Z
DTSTART:20260422T163000Z
DTEND:20260422T180000Z
URL:https://www.attoppa.it/event/narrazioni-tossiche-e-come-riconoscerle-2
LOCATION:Stravento - via Antonio de Curtis 34\, Catania
STATUS:CONFIRMED
CATEGORIES:Laboratorio,Officina Rebelde,transfemminismo
END:VEVENT
BEGIN:VEVENT
UID:1271@www.attoppa.it
SUMMARY:𝘋𝘈𝘙𝘒 𝘛𝘐𝘔𝘌𝘚 𝘛𝘖𝘜𝘙 2026 𝗨𝗹𝗮𝗻 𝗕𝗮𝘁𝗼𝗿 LIVE + opening act: 𝗝𝘂𝗝𝘂
DTSTAMP:20260420T145914Z
DTSTART:20260423T190000Z
DTEND:20260423T220000Z
URL:https://www.attoppa.it/event/2026-live-opening-act
LOCATION:Teatro Coppola - il teatro dei cittadini - Via del vecchio bastion
	e 9\, Catania
STATUS:CONFIRMED
CATEGORIES:concerto
END:VEVENT
BEGIN:VEVENT
UID:1268@www.attoppa.it
SUMMARY:🔻 FESTA POPOLARE  25 aprile🔻
DTSTAMP:20260420T145914Z
DTSTART:20260424T220000Z
DTEND:20260425T160000Z
URL:https://www.attoppa.it/event/festa-popolare-25-aprile
LOCATION:CSP Graziella Giuffrida - Via Vittorio Emanuele 436\, Catania
STATUS:CONFIRMED
CATEGORIES:25 aprile,Musica,Pranzo
END:VEVENT
BEGIN:VEVENT
UID:1277@www.attoppa.it
SUMMARY:L'amor mio non muore
DTSTAMP:20260420T145914Z
DTSTART:20260425T180000Z
DTEND:20260425T210000Z
URL:https://www.attoppa.it/event/lamor-mio-non-muore-1
LOCATION:Teatro Coppola - il teatro dei cittadini - Via del vecchio bastion
	e 9\, Catania
STATUS:CONFIRMED
CATEGORIES:BENEFIT,cena sociale,Musica,Palestina
END:VEVENT
END:VCALENDAR
