BEGIN:VCALENDAR
VERSION:2.0
CALSCALE:GREGORIAN
PRODID:adamgibbons/ics
METHOD:PUBLISH
X-PUBLISHED-TTL:PT1H
BEGIN:VEVENT
UID:1287@www.attoppa.it
SUMMARY:Weekend Martyr live + cena benefit per Consultorio Micuerpoesmio
DTSTAMP:20260423T160845Z
DTSTART:20260430T190000Z
DTEND:20260430T220000Z
DESCRIPTION:GIOVEDÌ 30 APRILE | ORE 21:00\n\n@weekendmartyr.band [http://we
	ekendmartyr.band] LIVE\n\n(blues psych punk / Livorno)\n\nOPENING: @mangov
	ictimm\n\n(indie rock / Catania)\n\npre/after show: FAILLA DJ\n\n+ "Gli od
	ori che vedo”\, mostra fotografica di @lorem.mcf\n\n+++ a partire dalle 20
	:30 +++\n\nCENA SOCALE BENEFIT\n\na sostegno del Consultorio Micuerpoesmio
	\n\nBIO\n\nI Weekend Martyr nascono a Livorno nel 2019 dall’incontro tra R
	iccardo Prianti\n(chitarra e voce) ed Elia Lazzerini (batteria). Suonano p
	unk\, psichedelia\, blues\nstorto e freak folk riuscendo a far convivere i
	l tutto in un unico sound\,\npersonale e senza compromessi. Band DIY da se
	mpre\, fondano la CRUEL RECORDS che\npubblica la maggior parte dei loro di
	schi. Girano in power trio con Matteo\nScateni al basso.\n\nDopo la pubbli
	cazione del primo album in studio\, ‘GASTRIN’ (2024)\, prodotto da\nMarco 
	Fasolo (Jennifer Gentle)\, e dell’ EP ‘Young Elvis Lover Known For Being\n
	Out Of Control’ (2025)\, tornano quest’anno con un nuovo album in studio\,
	 ‘CRUEL\nHOUSE’ (2026).\n\nNel 2026 arriva il primo tour europeo di presen
	tazione del disco e girano\nFrancia\, Svizzera\, Germania e Belgio.\n\nman
	govictim (che probabilmente conoscete come frontman dei @lealeaband) qui\n
	esplora le sue paure\, offrendovi una formula minimale e a tratti incapace
	 di\ndistaccarsi dal sogno\n\nFailla DJ è uno che fa selezione musicale. P
	urtroppo si sente poco in giro\npoiché a Catania organizzano eventi solo g
	li ignoranti. Ed egli si muove con\npasso felpato in cerca del Gettone che
	 lo riporti a casa. Aspettando l’occasione\ngiusta\, aspettando l’occasion
	e giusta…\n\n'GLI ODORI CHE SENTO' mostra fotografica\n\nPer il progetto f
	otografico “Gli odori che vedo”\, LoremIpsumNova (nella vita di\ntutti i g
	iorni\, Rino)\, invece di scattare foto usando usando la vista\, cerca di\
	ncatturare i momenti seguendo profumi e odori che incontra mentre vive il\
	nquotidiano. Porta sempre con lui una macchina fotografica a rullino\, e q
	uando un\nodore lo colpisce\, scatta una foto.
URL:https://www.attoppa.it/event/weekend-martyr-live-cena-benefit-per-consu
	ltorio-micuerpoesmio
GEO:37.5016;15.0916
LOCATION:Teatro Coppola - il teatro dei cittadini - Via del vecchio bastion
	e 9\, Catania
STATUS:CONFIRMED
CATEGORIES:cena sociale,concerto
X-ALT-DESC;FMTTYPE=text/html:<p>GIOVEDÌ 30 APRILE | ORE 21:00</p><p>@<a hre
	f="http://weekendmartyr.band" target="_blank">weekendmartyr.band</a> LIVE<
	/p><p>(blues psych punk / Livorno)</p><p>OPENING: @mangovictimm</p><p>(ind
	ie rock / Catania)</p><p>pre/after show: FAILLA DJ </p><p>+ "Gli odori che
	 vedo”, mostra fotografica di @lorem.mcf</p><p>+++ a partire dalle 20:30 +
	++</p><p>CENA SOCALE BENEFIT </p><p>a sostegno del Consultorio Micuerpoesm
	io</p><p>BIO </p><p>I Weekend Martyr nascono a Livorno nel 2019 dall’incon
	tro tra Riccardo Prianti (chitarra e voce) ed Elia Lazzerini (batteria). S
	uonano punk, psichedelia, blues storto e freak folk riuscendo a far conviv
	ere il tutto in un unico sound, personale e senza compromessi. Band DIY da
	 sempre, fondano la CRUEL RECORDS che pubblica la maggior parte dei loro d
	ischi. Girano in power trio con Matteo Scateni al basso. </p><p>Dopo la pu
	bblicazione del primo album in studio, ‘GASTRIN’ (2024), prodotto da Marco
	 Fasolo (Jennifer Gentle), e dell’ EP ‘Young Elvis Lover Known For Being O
	ut Of Control’ (2025), tornano quest’anno con un nuovo album in studio, ‘C
	RUEL HOUSE’ (2026). </p><p>Nel 2026 arriva il primo tour europeo di presen
	tazione del disco e girano Francia, Svizzera, Germania e Belgio.</p><p>man
	govictim<em> (che probabilmente conoscete come frontman dei @lealeaband) q
	ui esplora le sue paure, offrendovi una formula minimale e a tratti incapa
	ce di distaccarsi dal sogno</em></p><p>Failla DJ è uno che fa selezione mu
	sicale. Purtroppo si sente poco in giro poiché a Catania organizzano event
	i solo gli ignoranti. Ed egli si muove con passo felpato in cerca del Gett
	one che lo riporti a casa. Aspettando l’occasione giusta, aspettando l’occ
	asione giusta…</p><p>'GLI ODORI CHE SENTO' mostra fotografica</p><p>Per il
	 progetto fotografico “Gli odori che vedo”, LoremIpsumNova (nella vita di 
	tutti i giorni, Rino), invece di scattare foto usando usando la vista, cer
	ca di catturare i momenti seguendo profumi e odori che incontra mentre viv
	e il quotidiano. Porta sempre con lui una macchina fotografica a rullino, 
	e quando un odore lo colpisce, scatta una foto.</p>
BEGIN:VALARM
ACTION:DISPLAY
DESCRIPTION:Weekend Martyr live + cena benefit per Consultorio Micuerpoesmi
	o
TRIGGER:-PT1H
END:VALARM
END:VEVENT
END:VCALENDAR
