BEGIN:VCALENDAR
VERSION:2.0
CALSCALE:GREGORIAN
PRODID:adamgibbons/ics
METHOD:PUBLISH
X-PUBLISHED-TTL:PT1H
BEGIN:VEVENT
UID:1285@www.attoppa.it
SUMMARY:Torneo Rugby e pranzo popolare
DTSTAMP:20260423T204454Z
DTSTART:20260501T083000Z
DESCRIPTION:Mancano pochi giorni al Primo Maggio 2026 ed all'avvio del cale
	ndario\nd'iniziative della Settimana del Primo Maggio al San Teodoro Liber
	ato.\nQuesto il programma della giornata centrale della manifestazione\, c
	on il torneo\nold in mattinata (ma che come sapete include tutte e tutti\,
	 o meglio chiunque\nvoglia giocare con le regole e lo spirito "Old" rugby)
	\, il pranzo popolare ricco\ne pieno di sorprese\, i giochi e la possibili
	tà di provare tutte le attività che\ns'intrecciano al Campo San Teodoro Li
	berato\, dal rugby allo judo\,\ndall'arrampicata all'acroyoga.\nNel corso 
	della giornata sarà anche presente uno stand de Le Galline Felici dove\nsi
	 potranno gustare le spremute espresse e la frutta del consorzio di produt
	tori\nagricoli siciliani\, assaggiare il miele siciliano e partecipare anc
	he a dei\ngiochi a premi!\n\nAdelante...
URL:https://www.attoppa.it/event/torneo-rugby-e-pranzo-popolare
LOCATION:Campo San Teodoro Liberato - Viale San Teodoro\, San Teodoro\, San
	 Giorgio-Librino-San Giuseppe la Rena-Zia Lisa-Villaggio Sant'Agata\, Cata
	nia\, Sicilia\, 95121\, Italia
STATUS:CONFIRMED
CATEGORIES:
X-ALT-DESC;FMTTYPE=text/html:<p>Mancano pochi giorni al Primo Maggio 2026 e
	d all'avvio del calendario d'iniziative della <strong>Settimana del Primo 
	Maggio al San Teodoro Liberato</strong>.<br>Questo il programma della gior
	nata centrale della manifestazione, con il torneo old in mattinata (ma che
	 come sapete include tutte e tutti, o meglio chiunque voglia giocare con l
	e regole e lo spirito "Old" rugby), il pranzo popolare ricco e pieno di so
	rprese, i giochi e la possibilità di provare tutte le attività che s'intre
	cciano al <strong>Campo San Teodoro Liberato</strong>, dal rugby allo judo
	, dall'arrampicata all'acroyoga.<br>Nel corso della giornata sarà anche pr
	esente uno stand de <strong>Le Galline Felici</strong> dove si potranno gu
	stare le spremute espresse e la frutta del consorzio di produttori agricol
	i siciliani, assaggiare il miele siciliano e partecipare anche a dei gioch
	i a premi!</p><p>Adelante...</p>
BEGIN:VALARM
ACTION:DISPLAY
DESCRIPTION:Torneo Rugby e pranzo popolare
TRIGGER:-PT1H
END:VALARM
END:VEVENT
END:VCALENDAR
