BEGIN:VCALENDAR
VERSION:2.0
CALSCALE:GREGORIAN
PRODID:adamgibbons/ics
METHOD:PUBLISH
X-PUBLISHED-TTL:PT1H
BEGIN:VEVENT
UID:1284@www.attoppa.it
SUMMARY:Pastasciutta antifascista
DTSTAMP:20260423T205028Z
DTSTART:20260425T110000Z
DESCRIPTION:Come da tradizione il 25 aprile si festeggia la Liberazione dal
	 nazifascismo\, la\nnascita della Repubblica\, la vittoria ed il sacrifici
	o dei Partigiani. Per noi\nricorre anche la Liberazione di questo angolo d
	i città che abbiamo restituito\nall'uso per il quale era nato\, ovvero spo
	rt ed aggregazione\, che non a caso lo\nabbiamo chiamato Campo San Teodoro
	 Liberato\, era il 25 aprile 2012.\nCome ogni anno\, celebreremo queste Li
	berazioni partecipando alla manifestazione\ncittadina e poi aprendo il Cam
	po alla città\, preparando una "Pastasciutta\nAntifascista" per poi lascia
	re vivere la struttura tra musica\, sport\, relax.\nLa Pastasciutta Antifa
	scista ricorda e riprende l'iniziativa di Alcide Cervi\,\npadre dei sette 
	fratelli Cervi - Gelindo\, Antenore\, Aldo\, Ferdinando\, Agostino\,\nOvid
	io\, Ettore - fucilati dai nazifascisti nel dicembre del 1943\, che il gio
	rno\ndella Liberazione aprì la sua casa e preparò un piatto di pasta da co
	ndividere\ncon i suoi concittadini\, con i resistenti\, con i partigiani.\
	nOnore a lui ed ai suoi figli\, eroici martiri del nostro Paese\, Partigia
	ni\, veri\nPatrioti da ricordare ancora adesso\, in una fase storica che h
	a completamente\nsvilito il concetto di Patriottismo\, oggi sventolato da 
	gruppi neofascisti che\nsperavamo di avere buttato nella latrina della sto
	ria.\nAdesso e Sempre Resistenza\, adelante!
URL:https://www.attoppa.it/event/pastasciutta-antifascista
LOCATION:Campo San Teodoro Liberato - Viale San Teodoro\, San Teodoro\, San
	 Giorgio-Librino-San Giuseppe la Rena-Zia Lisa-Villaggio Sant'Agata\, Cata
	nia\, Sicilia\, 95121\, Italia
STATUS:CONFIRMED
CATEGORIES:
X-ALT-DESC;FMTTYPE=text/html:<p>Come da tradizione il 25 aprile si festeggi
	a la Liberazione dal nazifascismo, la nascita della Repubblica, la vittori
	a ed il sacrificio dei Partigiani. Per noi ricorre anche la Liberazione di
	 questo angolo di città che abbiamo restituito all'uso per il quale era na
	to, ovvero sport ed aggregazione, che non a caso lo abbiamo chiamato&nbsp;
	<strong>Campo San Teodoro Liberato</strong>, era il 25 aprile 2012.<br>Com
	e ogni anno, celebreremo queste Liberazioni partecipando alla manifestazio
	ne cittadina e poi aprendo il Campo alla città, preparando una&nbsp;<em>"P
	astasciutta Antifascista"</em>&nbsp;per poi lasciare vivere la struttura t
	ra musica, sport, relax.<br>La Pastasciutta Antifascista ricorda e riprend
	e l'iniziativa di Alcide Cervi, padre dei sette fratelli Cervi - Gelindo, 
	Antenore, Aldo, Ferdinando, Agostino, Ovidio, Ettore - fucilati dai nazifa
	scisti nel dicembre del 1943, che il giorno della Liberazione aprì la sua 
	casa e preparò un piatto di pasta da condividere con i suoi concittadini, 
	con i resistenti, con i partigiani.<br>Onore a lui ed ai suoi figli, eroic
	i martiri del nostro Paese, Partigiani, veri Patrioti da ricordare ancora 
	adesso, in una fase storica che ha completamente svilito il concetto di Pa
	triottismo, oggi sventolato da gruppi neofascisti che speravamo di avere b
	uttato nella latrina della storia.<br>Adesso e Sempre Resistenza, adelante
	!</p>
BEGIN:VALARM
ACTION:DISPLAY
DESCRIPTION:Pastasciutta antifascista
TRIGGER:-PT1H
END:VALARM
END:VEVENT
END:VCALENDAR
