BEGIN:VCALENDAR
VERSION:2.0
CALSCALE:GREGORIAN
PRODID:adamgibbons/ics
METHOD:PUBLISH
X-PUBLISHED-TTL:PT1H
BEGIN:VEVENT
UID:1288@www.attoppa.it
SUMMARY:IMPROSATURA - MEETING DI IMPROVVISAZIONE RADICALE
DTSTAMP:20260423T160723Z
DTSTART:20260426T170000Z
DTEND:20260426T200000Z
DESCRIPTION:DOMENICA 26 APRILE | A PARTIRE DALLE ORE 19:00\n\nIMPROSATURA -
	 MEETING DI IMPROVVISAZIONE RADICALE\n\nSerata di improvvisazione radicale
	. Non è una jam session: niente basi comuni o\ngerarchie\, solo l'ascolto 
	puro e radicale per inventare lingue sonore nuove.\nAperto sia a neofiti c
	he ad esperti\, il format è costituito da set di 10 minuti\ndove suonano i
	n combo due o più musicisti. Le iscrizioni si chiuderanno il 23\naprile.\n
	\nPartecipanti al momento confermati:\n\nCesare Basile / Antonio Longo / G
	iuseppe Schillaci / Francesco Leonardi /\nAntonio Aiello / Riccardo Napoli
	 / Lunaspina Caruso / Giulia Fassari / Tommaso\nSciotto / Andrea Privitera
	 / Gabriele Rosini / Marcello Caudullo / Chantal Di\nMaria / Tazio Iacobac
	ci / Edith Lettner / Emiliano Cinquerrui / Simone Caruso /\nStigma (Labora
	torio di Arti Brute)\n\n(per ulteriori info scrivere a doremillaro@gmail.c
	om o in dm a @impro_satura
URL:https://www.attoppa.it/event/improsatura-meeting-di-improvvisazione-rad
	icale
GEO:37.5016;15.0916
LOCATION:Teatro Coppola - il teatro dei cittadini - Via del vecchio bastion
	e 9\, Catania
STATUS:CONFIRMED
CATEGORIES:concerto
X-ALT-DESC;FMTTYPE=text/html:<p>DOMENICA 26 APRILE | A PARTIRE DALLE ORE 19
	:00</p><p>IMPROSATURA - MEETING DI IMPROVVISAZIONE RADICALE</p><p>Serata d
	i improvvisazione radicale. Non è una jam session: niente basi comuni o ge
	rarchie, solo l'ascolto puro e radicale per inventare lingue sonore nuove.
	 Aperto sia a neofiti che ad esperti, il format è costituito da set di 10 
	minuti dove suonano in combo due o più musicisti.  Le iscrizioni si chiude
	ranno il 23 aprile. </p><p>Partecipanti al momento confermati:</p><p>Cesar
	e Basile / Antonio Longo / Giuseppe Schillaci / Francesco Leonardi / Anton
	io Aiello / Riccardo Napoli / Lunaspina Caruso / Giulia Fassari / Tommaso 
	Sciotto / Andrea Privitera / Gabriele Rosini / Marcello Caudullo / Chantal
	 Di Maria / Tazio Iacobacci / Edith Lettner / Emiliano Cinquerrui / Simone
	 Caruso / Stigma (Laboratorio di Arti Brute)</p><p>(per ulteriori info scr
	ivere a doremillaro@gmail.com o in dm a @impro_satura</p>
BEGIN:VALARM
ACTION:DISPLAY
DESCRIPTION:IMPROSATURA - MEETING DI IMPROVVISAZIONE RADICALE
TRIGGER:-PT1H
END:VALARM
END:VEVENT
END:VCALENDAR
