BEGIN:VCALENDAR
VERSION:2.0
CALSCALE:GREGORIAN
PRODID:adamgibbons/ics
METHOD:PUBLISH
X-PUBLISHED-TTL:PT1H
BEGIN:VEVENT
UID:1283@www.attoppa.it
SUMMARY:FESTA DELLA GIOVENTU' PARTIGIANA
DTSTAMP:20260421T182229Z
DTSTART:20260424T160000Z
DTEND:20260424T220000Z
DESCRIPTION:Proiezioni\, Dibattiti\, Musica live\, Esposizioni\, Cena Socia
	le\, Drinks
URL:https://www.attoppa.it/event/festa-della-gioventu-partigiana
LOCATION:camera del lavoro - via Crociferi\, 40 Catania
STATUS:CONFIRMED
CATEGORIES:
X-ALT-DESC;FMTTYPE=text/html:<p>Proiezioni, Dibattiti, Musica live, Esposiz
	ioni, Cena Sociale, Drinks</p>
BEGIN:VALARM
ACTION:DISPLAY
DESCRIPTION:FESTA DELLA GIOVENTU' PARTIGIANA
TRIGGER:-PT1H
END:VALARM
END:VEVENT
END:VCALENDAR
