BEGIN:VCALENDAR
VERSION:2.0
CALSCALE:GREGORIAN
PRODID:adamgibbons/ics
METHOD:PUBLISH
X-PUBLISHED-TTL:PT1H
BEGIN:VEVENT
UID:1286@www.attoppa.it
SUMMARY:CAMOMILLAS RISCALDATAE: MUSIC SELECTION PROIEZIONE MATERIALE MISTO 
	E SUPER 8
DTSTAMP:20260423T205057Z
DTSTART:20260426T160000Z
DTEND:20260426T210000Z
DESCRIPTION:Lorem\, not dolor: CAMOMILLAS RISCALDATAE a cura di Rino Caccam
	o\n\ndomenica 26 aprile · h 18:00 · Stravento\, Via Antonio De Curtis 34\,
	 Catania\n\nUna music selection con proiezioni Super 8 e altri materiali c
	he tocca Rino\nCaccamo.\n\nNon è una playlist\, è una successione progress
	iva di brani che ho costruito nel\ntempo\, che parte larga — Kid Francesco
	li\, Sébastien Tellier\, Calcutta — e si\nstringe sempre di più intorno a 
	i Camillas e Crema\, con una deviazione obbligata\nsu Battiato e un finale
	 Pop X. In mezzo ci sono 99 Posse\, Rino Gaetano\, Modena\nCity Ramblers\,
	 Milva\, e qualcos’altro che non anticipo.\n\nMentre suona Rino scorrono i
	mmagini. Materiale misto e Super 8 trovato ai\nmercatini\, rielaborato — g
	rana\, loop\, luce che brucia. che parlano sopra il\nmateriale.
URL:https://www.attoppa.it/event/camomillas-riscaldatae-music-selection-pro
	iezione-materiale-misto-e-super-8
LOCATION:Stravento - via Antonio de Curtis 34\, Catania
STATUS:CONFIRMED
CATEGORIES:Catania,Musica,proiezione
X-ALT-DESC;FMTTYPE=text/html:<p><strong>Lorem, not dolor: CAMOMILLAS RISCAL
	DATAE</strong> a cura di <strong>Rino Caccamo</strong></p><p><strong>domen
	ica 26 aprile</strong> <strong>· h 18:00 · Stravento</strong>, Via Antonio
	 De Curtis 34, Catania</p><p>Una music selection con proiezioni Super 8 e 
	altri materiali che tocca Rino Caccamo.</p><p>Non è una playlist, è una su
	ccessione progressiva di brani che ho costruito nel tempo, che parte larga
	 — Kid Francescoli, Sébastien Tellier, Calcutta — e si stringe sempre di p
	iù intorno a <strong>i Camillas </strong>e <strong>Crema</strong>, con una
	 deviazione obbligata su <strong>Battiato</strong> e un finale <strong>Pop
	 X</strong>. In mezzo ci sono <strong>99 Posse, Rino Gaetano, Modena City 
	Ramblers, Milva</strong>, e qualcos’altro che non anticipo.</p><p>Mentre s
	uona Rino scorrono immagini. Materiale misto e Super 8 trovato ai mercatin
	i, rielaborato — grana, loop, luce che brucia. che parlano sopra il materi
	ale. </p>
BEGIN:VALARM
ACTION:DISPLAY
DESCRIPTION:CAMOMILLAS RISCALDATAE: MUSIC SELECTION PROIEZIONE MATERIALE MI
	STO E SUPER 8
TRIGGER:-PT1H
END:VALARM
END:VEVENT
END:VCALENDAR
